BEGIN:VCALENDAR
VERSION:2.0
PRODID:-//Familienzentrum - ECPv6.15.17.1//NONSGML v1.0//EN
CALSCALE:GREGORIAN
METHOD:PUBLISH
X-WR-CALNAME:Familienzentrum
X-ORIGINAL-URL:https://familienzentrum.familienanlauf.de
X-WR-CALDESC:Veranstaltungen für Familienzentrum
REFRESH-INTERVAL;VALUE=DURATION:PT1H
X-Robots-Tag:noindex
X-PUBLISHED-TTL:PT1H
BEGIN:VTIMEZONE
TZID:Europe/Berlin
BEGIN:DAYLIGHT
TZOFFSETFROM:+0100
TZOFFSETTO:+0200
TZNAME:CEST
DTSTART:20230326T010000
END:DAYLIGHT
BEGIN:STANDARD
TZOFFSETFROM:+0200
TZOFFSETTO:+0100
TZNAME:CET
DTSTART:20231029T010000
END:STANDARD
BEGIN:DAYLIGHT
TZOFFSETFROM:+0100
TZOFFSETTO:+0200
TZNAME:CEST
DTSTART:20240331T010000
END:DAYLIGHT
BEGIN:STANDARD
TZOFFSETFROM:+0200
TZOFFSETTO:+0100
TZNAME:CET
DTSTART:20241027T010000
END:STANDARD
BEGIN:DAYLIGHT
TZOFFSETFROM:+0100
TZOFFSETTO:+0200
TZNAME:CEST
DTSTART:20250330T010000
END:DAYLIGHT
BEGIN:STANDARD
TZOFFSETFROM:+0200
TZOFFSETTO:+0100
TZNAME:CET
DTSTART:20251026T010000
END:STANDARD
BEGIN:DAYLIGHT
TZOFFSETFROM:+0100
TZOFFSETTO:+0200
TZNAME:CEST
DTSTART:20260329T010000
END:DAYLIGHT
BEGIN:STANDARD
TZOFFSETFROM:+0200
TZOFFSETTO:+0100
TZNAME:CET
DTSTART:20261025T010000
END:STANDARD
END:VTIMEZONE
BEGIN:VEVENT
DTSTART;TZID=Europe/Berlin:20250210T093000
DTEND;TZID=Europe/Berlin:20250210T103000
DTSTAMP:20260420T111727
CREATED:20250130T095841Z
LAST-MODIFIED:20250409T082742Z
UID:24168-1739179800-1739183400@familienzentrum.familienanlauf.de
SUMMARY:Krabbelkurs
DESCRIPTION:In unser Krabbelgruppe für die Kleinen im ersten Lebensjahr wird gesungen und gespielt. Mit verschiedenen Materialien entdecken wir unsere Sinne\, Krabbeln und Beobachten. Fingerspiele und Kniereiterspiele machen Spaß und in Gesprächen könnt ihr Fragen stellen. \nBitte meldet euch an! \nfamilienzentrum@familienanlauf.de \noder \n0174 244 09 06
URL:https://familienzentrum.familienanlauf.de/veranstaltung/krabbelkurs/
END:VEVENT
BEGIN:VEVENT
DTSTART;TZID=Europe/Berlin:20250210T130000
DTEND;TZID=Europe/Berlin:20250210T150000
DTSTAMP:20260420T111727
CREATED:20250130T101509Z
LAST-MODIFIED:20250409T082641Z
UID:24177-1739192400-1739199600@familienzentrum.familienanlauf.de
SUMMARY:Beratung zu altersgerechten Spielmöglichkeiten
DESCRIPTION:Beratung zu altersgerechten Spielen   \nMontags 13.00 bis 15.00 Uhr\, jede 2. Woche – nur mit vorheriger Terminvergabe  \nEuer Kind ist zwischen 0 – 6 Jahre alt und ihr habt spezielle Fragen oder braucht Anregungen\, welche Spiele und Beschäftigungen für das Alter eures Kindes passen? Dann vereinbart einen Termin mit uns. Gemeinsam begeben wir uns in die Welt eures Kindes und entdecken (neue) Spielideen.  \n  \nDie Beratung ist kostenfrei.   \nTerminvergabe : 0173 26 41 39 1 oder familienzentrum@familienanlauf.de  \n 
URL:https://familienzentrum.familienanlauf.de/veranstaltung/beratung-zu-altersgerechten-spielmoeglichkeiten/
END:VEVENT
BEGIN:VEVENT
DTSTART;TZID=Europe/Berlin:20250113T153000
DTEND;TZID=Europe/Berlin:20250113T153000
DTSTAMP:20260420T111727
CREATED:20250114T131052Z
LAST-MODIFIED:20250409T083238Z
UID:23990-1736782200-1736782200@familienzentrum.familienanlauf.de
SUMMARY:Malkurs für Familien mit Kindern 4-6 Jahre
DESCRIPTION:
URL:https://familienzentrum.familienanlauf.de/veranstaltung/malkurs-fuer-familien/
END:VEVENT
BEGIN:VEVENT
DTSTART;TZID=Europe/Berlin:20241210T130000
DTEND;TZID=Europe/Berlin:20241210T143000
DTSTAMP:20260420T111727
CREATED:20240320T131752Z
LAST-MODIFIED:20250409T083128Z
UID:20269-1733835600-1733841000@familienzentrum.familienanlauf.de
SUMMARY:Familienhebammen-Sprechstunde für Schwangerschaft und alle Fragen bis zum 2. Geburtstag 
DESCRIPTION:Bitte vereinbart vorab einen Termin mit unserer Familienhebamme Britta Bacchetta: 📞 0162 13 76 08 4 oder 📧 bacchetta@familienanlauf.de \n  \nSprechstunde für alle Fragen rund um Schwangerschaft\, Geburt und die ersten Lebensjahre. \nWenn wir die Antwort nicht kennen\, suchen wir gemeinsam die richtige Anlaufstelle. Die Beratung erfolgt telefonisch oder persönlich. Wir freuen uns auf euch! \n 
URL:https://familienzentrum.familienanlauf.de/veranstaltung/familienhebammen-sprechstunde-fuer-schwangerschaft-und-alle-fragen-bis-zum-2-geburtstag/
END:VEVENT
BEGIN:VEVENT
DTSTART;TZID=Europe/Berlin:20241210T150000
DTEND;TZID=Europe/Berlin:20241210T173000
DTSTAMP:20260420T111727
CREATED:20230921T092146Z
LAST-MODIFIED:20250409T083034Z
UID:18349-1733842800-1733851800@familienzentrum.familienanlauf.de
SUMMARY:Offener (Spiele-)Nachmittag
DESCRIPTION:Hier könnt Ihr Euch treffen\, spielen und austauschen. Garten und Türen sind geöffnet. \nKommt einfach vorbei!
URL:https://familienzentrum.familienanlauf.de/veranstaltung/offener-nachmittag-2-2/
END:VEVENT
BEGIN:VEVENT
DTSTART;TZID=Europe/Berlin:20250212T123000
DTEND;TZID=Europe/Berlin:20250212T143000
DTSTAMP:20260420T111727
CREATED:20250130T100254Z
LAST-MODIFIED:20250409T083320Z
UID:24171-1739363400-1739370600@familienzentrum.familienanlauf.de
SUMMARY:offener Familientreff
DESCRIPTION:Offener Familientreff  \nMittwochs 12.00 bis 14:30 Uhr  \nHier könnt ihr mit euren Kindern von 0 – 6 Jahren herkommen\, um z.B. zu spielen\, zu basteln und zu lesen. Ihr könnt andere Familien treffen\, euch austauschen\, vernetzen und zusammen eine schöne Zeit verbringen.     \n  \nDer offene Familientreff ist für die Teilnehmenden kostenfrei\, es bedarf keiner Anmeldung.\nÜber Spenden für Verbrauchsmaterial freuen wir uns.  \n  \nBei Fragen zum Angebot : 0173 26 41 39 1 oder familienzentrum@familienanlauf.de 
URL:https://familienzentrum.familienanlauf.de/veranstaltung/offener-familientreff/
END:VEVENT
BEGIN:VEVENT
DTSTART;TZID=Europe/Berlin:20250212T143000
DTEND;TZID=Europe/Berlin:20250212T163000
DTSTAMP:20260420T111727
CREATED:20250130T100457Z
LAST-MODIFIED:20250610T063539Z
UID:24174-1739370600-1739377800@familienzentrum.familienanlauf.de
SUMMARY:Bewegungskurs für Familien mit Kindern bis 2\,5 Jahre
DESCRIPTION:Bewegungskurs für Familien  \nMittwochs 14.30 bis 16:30 Uhr\, Kinder bis 2\,5 Jahre  \nSind die Kleinen mobil geworden\, möchten sie die Welt aktiv entdecken und sich ausprobieren. Wir bauen Bewegungsparcours auf\, es wird geklettert\, gerutscht\, balanciert\, geschaukelt und gehüpft. Musik\, Bewegungslieder und -spiele sind ebenfalls Teil des Kurses. Gemeinsames Bewegen\, Spielen und Singen verbindet und eure Kinder entwickeln ihre motorischen und kognitiven Fähigkeiten weiter. Der Kurs umfasst 8 aufeinanderfolgende Termine.  \nUnser Ablauf:  \n14.30 – 15.00 Uhr Vorbereitung der Materialien  \n15.00 – 16.00 Uhr Bewegung\, Spiel & Spaß  \n16.00 – 16.30 Uhr Abbau\, Aufräumen  \n  \nDer Kurs ist für die Teilnehmenden kostenfrei.\nÜber Spenden für Verbrauchsmaterial freuen wir uns.  \nAnmeldung & Kurszeiten: 0173 26 41 39 1 oder familienzentrum@familienanlauf.de 
URL:https://familienzentrum.familienanlauf.de/veranstaltung/bewegungskurs-fuer-familien-mit-kindern-bis-25-jahre/
END:VEVENT
BEGIN:VEVENT
DTSTART;TZID=Europe/Berlin:20250213T093000
DTEND;TZID=Europe/Berlin:20250213T120000
DTSTAMP:20260420T111727
CREATED:20250130T101839Z
LAST-MODIFIED:20250507T141716Z
UID:24186-1739439000-1739448000@familienzentrum.familienanlauf.de
SUMMARY:offene Familienspielgruppe
DESCRIPTION:Jeden Donnerstag könnt ihr im Familienzentrum die Räume und Materialien nutzen. Zusammen spielen\, Freundschaften schließen und austauschen! \nOhne Anmeldung und kosten!
URL:https://familienzentrum.familienanlauf.de/veranstaltung/offene-familienspielgruppe/
END:VEVENT
BEGIN:VEVENT
DTSTART;TZID=Europe/Berlin:20250213T140000
DTEND;TZID=Europe/Berlin:20250213T153000
DTSTAMP:20260420T111727
CREATED:20250130T101144Z
LAST-MODIFIED:20250507T141852Z
UID:24180-1739455200-1739460600@familienzentrum.familienanlauf.de
SUMMARY:Sprachcafé für Familien
DESCRIPTION:Donnerstags 14:00 bis 15.30 Uhr\nWir treffen uns in entspannter Atmosphäre mit Kaffee\, Tee und Spielen.\nDabei üben wir die deutsche Sprache. \nOhne Anmeldung und kostenlos!
URL:https://familienzentrum.familienanlauf.de/veranstaltung/sprachcafe-fuer-familien/
END:VEVENT
BEGIN:VEVENT
DTSTART;TZID=Europe/Berlin:20241212T153000
DTEND;TZID=Europe/Berlin:20241212T173000
DTSTAMP:20260420T111727
CREATED:20230921T093231Z
LAST-MODIFIED:20250507T141954Z
UID:18363-1734017400-1734024600@familienzentrum.familienanlauf.de
SUMMARY:Offener Nachmittag
DESCRIPTION:Hier könnt Ihr Euch treffen\, spielen und austauschen. Garten und Türen sind geöffnet. \nKommt einfach vorbei!
URL:https://familienzentrum.familienanlauf.de/veranstaltung/offener-nachmittag/
END:VEVENT
BEGIN:VEVENT
DTSTART;TZID=Europe/Berlin:20250210T093000
DTEND;TZID=Europe/Berlin:20250210T103000
DTSTAMP:20260420T111727
CREATED:20250130T095841Z
LAST-MODIFIED:20250409T082742Z
UID:24168-1739179800-1739183400@familienzentrum.familienanlauf.de
SUMMARY:Krabbelkurs
DESCRIPTION:In unser Krabbelgruppe für die Kleinen im ersten Lebensjahr wird gesungen und gespielt. Mit verschiedenen Materialien entdecken wir unsere Sinne\, Krabbeln und Beobachten. Fingerspiele und Kniereiterspiele machen Spaß und in Gesprächen könnt ihr Fragen stellen. \nBitte meldet euch an! \nfamilienzentrum@familienanlauf.de \noder \n0174 244 09 06
URL:https://familienzentrum.familienanlauf.de/veranstaltung/krabbelkurs/
END:VEVENT
BEGIN:VEVENT
DTSTART;TZID=Europe/Berlin:20250210T130000
DTEND;TZID=Europe/Berlin:20250210T150000
DTSTAMP:20260420T111727
CREATED:20250130T101509Z
LAST-MODIFIED:20250409T082641Z
UID:24177-1739192400-1739199600@familienzentrum.familienanlauf.de
SUMMARY:Beratung zu altersgerechten Spielmöglichkeiten
DESCRIPTION:Beratung zu altersgerechten Spielen   \nMontags 13.00 bis 15.00 Uhr\, jede 2. Woche – nur mit vorheriger Terminvergabe  \nEuer Kind ist zwischen 0 – 6 Jahre alt und ihr habt spezielle Fragen oder braucht Anregungen\, welche Spiele und Beschäftigungen für das Alter eures Kindes passen? Dann vereinbart einen Termin mit uns. Gemeinsam begeben wir uns in die Welt eures Kindes und entdecken (neue) Spielideen.  \n  \nDie Beratung ist kostenfrei.   \nTerminvergabe : 0173 26 41 39 1 oder familienzentrum@familienanlauf.de  \n 
URL:https://familienzentrum.familienanlauf.de/veranstaltung/beratung-zu-altersgerechten-spielmoeglichkeiten/
END:VEVENT
BEGIN:VEVENT
DTSTART;TZID=Europe/Berlin:20250113T153000
DTEND;TZID=Europe/Berlin:20250113T153000
DTSTAMP:20260420T111727
CREATED:20250114T131052Z
LAST-MODIFIED:20250409T083238Z
UID:23990-1736782200-1736782200@familienzentrum.familienanlauf.de
SUMMARY:Malkurs für Familien mit Kindern 4-6 Jahre
DESCRIPTION:
URL:https://familienzentrum.familienanlauf.de/veranstaltung/malkurs-fuer-familien/
END:VEVENT
BEGIN:VEVENT
DTSTART;TZID=Europe/Berlin:20241210T130000
DTEND;TZID=Europe/Berlin:20241210T143000
DTSTAMP:20260420T111727
CREATED:20240320T131752Z
LAST-MODIFIED:20250409T083128Z
UID:20269-1733835600-1733841000@familienzentrum.familienanlauf.de
SUMMARY:Familienhebammen-Sprechstunde für Schwangerschaft und alle Fragen bis zum 2. Geburtstag 
DESCRIPTION:Bitte vereinbart vorab einen Termin mit unserer Familienhebamme Britta Bacchetta: 📞 0162 13 76 08 4 oder 📧 bacchetta@familienanlauf.de \n  \nSprechstunde für alle Fragen rund um Schwangerschaft\, Geburt und die ersten Lebensjahre. \nWenn wir die Antwort nicht kennen\, suchen wir gemeinsam die richtige Anlaufstelle. Die Beratung erfolgt telefonisch oder persönlich. Wir freuen uns auf euch! \n 
URL:https://familienzentrum.familienanlauf.de/veranstaltung/familienhebammen-sprechstunde-fuer-schwangerschaft-und-alle-fragen-bis-zum-2-geburtstag/
END:VEVENT
BEGIN:VEVENT
DTSTART;TZID=Europe/Berlin:20241210T150000
DTEND;TZID=Europe/Berlin:20241210T173000
DTSTAMP:20260420T111727
CREATED:20230921T092146Z
LAST-MODIFIED:20250409T083034Z
UID:18349-1733842800-1733851800@familienzentrum.familienanlauf.de
SUMMARY:Offener (Spiele-)Nachmittag
DESCRIPTION:Hier könnt Ihr Euch treffen\, spielen und austauschen. Garten und Türen sind geöffnet. \nKommt einfach vorbei!
URL:https://familienzentrum.familienanlauf.de/veranstaltung/offener-nachmittag-2-2/
END:VEVENT
BEGIN:VEVENT
DTSTART;TZID=Europe/Berlin:20250212T123000
DTEND;TZID=Europe/Berlin:20250212T143000
DTSTAMP:20260420T111727
CREATED:20250130T100254Z
LAST-MODIFIED:20250409T083320Z
UID:24171-1739363400-1739370600@familienzentrum.familienanlauf.de
SUMMARY:offener Familientreff
DESCRIPTION:Offener Familientreff  \nMittwochs 12.00 bis 14:30 Uhr  \nHier könnt ihr mit euren Kindern von 0 – 6 Jahren herkommen\, um z.B. zu spielen\, zu basteln und zu lesen. Ihr könnt andere Familien treffen\, euch austauschen\, vernetzen und zusammen eine schöne Zeit verbringen.     \n  \nDer offene Familientreff ist für die Teilnehmenden kostenfrei\, es bedarf keiner Anmeldung.\nÜber Spenden für Verbrauchsmaterial freuen wir uns.  \n  \nBei Fragen zum Angebot : 0173 26 41 39 1 oder familienzentrum@familienanlauf.de 
URL:https://familienzentrum.familienanlauf.de/veranstaltung/offener-familientreff/
END:VEVENT
BEGIN:VEVENT
DTSTART;TZID=Europe/Berlin:20250212T143000
DTEND;TZID=Europe/Berlin:20250212T163000
DTSTAMP:20260420T111727
CREATED:20250130T100457Z
LAST-MODIFIED:20250610T063539Z
UID:24174-1739370600-1739377800@familienzentrum.familienanlauf.de
SUMMARY:Bewegungskurs für Familien mit Kindern bis 2\,5 Jahre
DESCRIPTION:Bewegungskurs für Familien  \nMittwochs 14.30 bis 16:30 Uhr\, Kinder bis 2\,5 Jahre  \nSind die Kleinen mobil geworden\, möchten sie die Welt aktiv entdecken und sich ausprobieren. Wir bauen Bewegungsparcours auf\, es wird geklettert\, gerutscht\, balanciert\, geschaukelt und gehüpft. Musik\, Bewegungslieder und -spiele sind ebenfalls Teil des Kurses. Gemeinsames Bewegen\, Spielen und Singen verbindet und eure Kinder entwickeln ihre motorischen und kognitiven Fähigkeiten weiter. Der Kurs umfasst 8 aufeinanderfolgende Termine.  \nUnser Ablauf:  \n14.30 – 15.00 Uhr Vorbereitung der Materialien  \n15.00 – 16.00 Uhr Bewegung\, Spiel & Spaß  \n16.00 – 16.30 Uhr Abbau\, Aufräumen  \n  \nDer Kurs ist für die Teilnehmenden kostenfrei.\nÜber Spenden für Verbrauchsmaterial freuen wir uns.  \nAnmeldung & Kurszeiten: 0173 26 41 39 1 oder familienzentrum@familienanlauf.de 
URL:https://familienzentrum.familienanlauf.de/veranstaltung/bewegungskurs-fuer-familien-mit-kindern-bis-25-jahre/
END:VEVENT
BEGIN:VEVENT
DTSTART;TZID=Europe/Berlin:20250213T093000
DTEND;TZID=Europe/Berlin:20250213T120000
DTSTAMP:20260420T111727
CREATED:20250130T101839Z
LAST-MODIFIED:20250507T141716Z
UID:24186-1739439000-1739448000@familienzentrum.familienanlauf.de
SUMMARY:offene Familienspielgruppe
DESCRIPTION:Jeden Donnerstag könnt ihr im Familienzentrum die Räume und Materialien nutzen. Zusammen spielen\, Freundschaften schließen und austauschen! \nOhne Anmeldung und kosten!
URL:https://familienzentrum.familienanlauf.de/veranstaltung/offene-familienspielgruppe/
END:VEVENT
BEGIN:VEVENT
DTSTART;TZID=Europe/Berlin:20250213T140000
DTEND;TZID=Europe/Berlin:20250213T153000
DTSTAMP:20260420T111727
CREATED:20250130T101144Z
LAST-MODIFIED:20250507T141852Z
UID:24180-1739455200-1739460600@familienzentrum.familienanlauf.de
SUMMARY:Sprachcafé für Familien
DESCRIPTION:Donnerstags 14:00 bis 15.30 Uhr\nWir treffen uns in entspannter Atmosphäre mit Kaffee\, Tee und Spielen.\nDabei üben wir die deutsche Sprache. \nOhne Anmeldung und kostenlos!
URL:https://familienzentrum.familienanlauf.de/veranstaltung/sprachcafe-fuer-familien/
END:VEVENT
BEGIN:VEVENT
DTSTART;TZID=Europe/Berlin:20241212T153000
DTEND;TZID=Europe/Berlin:20241212T173000
DTSTAMP:20260420T111727
CREATED:20230921T093231Z
LAST-MODIFIED:20250507T141954Z
UID:18363-1734017400-1734024600@familienzentrum.familienanlauf.de
SUMMARY:Offener Nachmittag
DESCRIPTION:Hier könnt Ihr Euch treffen\, spielen und austauschen. Garten und Türen sind geöffnet. \nKommt einfach vorbei!
URL:https://familienzentrum.familienanlauf.de/veranstaltung/offener-nachmittag/
END:VEVENT
END:VCALENDAR